BEGIN:VCALENDAR
VERSION:2.0
PRODID:-// - ECPv6.15.18//NONSGML v1.0//EN
CALSCALE:GREGORIAN
METHOD:PUBLISH
X-ORIGINAL-URL:https://www.climaterevolutionnj.org
X-WR-CALDESC:Events for 
REFRESH-INTERVAL;VALUE=DURATION:PT1H
X-Robots-Tag:noindex
X-PUBLISHED-TTL:PT1H
BEGIN:VTIMEZONE
TZID:America/New_York
BEGIN:DAYLIGHT
TZOFFSETFROM:-0500
TZOFFSETTO:-0400
TZNAME:EDT
DTSTART:20250309T070000
END:DAYLIGHT
BEGIN:STANDARD
TZOFFSETFROM:-0400
TZOFFSETTO:-0500
TZNAME:EST
DTSTART:20251102T060000
END:STANDARD
BEGIN:DAYLIGHT
TZOFFSETFROM:-0500
TZOFFSETTO:-0400
TZNAME:EDT
DTSTART:20260308T070000
END:DAYLIGHT
BEGIN:STANDARD
TZOFFSETFROM:-0400
TZOFFSETTO:-0500
TZNAME:EST
DTSTART:20261101T060000
END:STANDARD
BEGIN:DAYLIGHT
TZOFFSETFROM:-0500
TZOFFSETTO:-0400
TZNAME:EDT
DTSTART:20270314T070000
END:DAYLIGHT
BEGIN:STANDARD
TZOFFSETFROM:-0400
TZOFFSETTO:-0500
TZNAME:EST
DTSTART:20271107T060000
END:STANDARD
END:VTIMEZONE
BEGIN:VEVENT
DTSTART;TZID=America/New_York:20260425T180000
DTEND;TZID=America/New_York:20260425T210000
DTSTAMP:20260423T075526
CREATED:20260410T004350Z
LAST-MODIFIED:20260413T191924Z
UID:10000529-1777140000-1777150800@www.climaterevolutionnj.org
SUMMARY:Pine Barrens Folklore Night (Keep Mullica River Wild Campaign Launch & Fundraiser)
DESCRIPTION:Join us on April 25th from 6 to 9pm at Timberline Farm for an in person launch of the Mullica River campaign\, bringing together the people who know and care about the Pinelands most. \nThe night is built around a folklore style open mic\, where locals can share stories that define life in the Pinelands\, from tall tales and ghost stories to personal memories tied to the land and water. Alongside that\, local musicians and artists will keep the space active\, making it feel less like a formal event and more like a gathering rooted in place. \nSet outdoors with a bonfire and space to move around\, the event is meant to feel like the Pinelands itself. It is a chance to connect\, hear from one another\, and build momentum around protecting the Mullica River watershed. Throughout the night\, groups working on Pinelands protection will be tabling\, including materials on the Mullica River campaign\, ways to take action\, and opportunities to plug in locally. There will also be food\, drinks\, and a raffle featuring local vendors\, with proceeds helping support ongoing work in the region. \nThis is a family friendly event\, open to all ages\, and designed to bring together longtime locals\, new supporters\, and anyone who wants to be part of protecting the Pinelands moving forward. \nBy completing this purchase\, you acknowledge that you have read\, understood\, and agree to be legally bound by the Timberline Farms General Release of Liability and Assumption of Risk Agreement. You confirm that: (1) Timberline Farms is an active working farm with uneven terrain\, live animals\, and agricultural equipment that present inherent risks of injury; (2) all minor children in your party must remain under direct adult supervision at all times; (3) guests should exercise caution when near live animals and must follow all Farm rules; (4) on-site parking is provided on unpaved\, uneven farm terrain and Timberline Farms is not liable for any vehicle damage\, loss\, or theft occurring on the premises; (5) you voluntarily assume all risks associated with your visit and release Timberline Farms\, its owners\, and staff from liability for injuries or damages arising from your visit\, including those caused by ordinary negligence; and (6) this agreement applies to all current and future visits to Timberline Farms. The full Release of Liability Agreement is available at [www.timberlinefarmsnj.com] upon request.
URL:https://www.climaterevolutionnj.org/event/pine-barrens-folklore-night-keep-mullica-river-wild-campaign-launch-fundraiser/
ATTACH;FMTTYPE=image/png:https://www.climaterevolutionnj.org/wp-content/uploads/2026/04/Pine-Barrens-e1776107953506.png
END:VEVENT
BEGIN:VEVENT
DTSTART;TZID=America/New_York:20260427T190000
DTEND;TZID=America/New_York:20260427T200000
DTSTAMP:20260423T075526
CREATED:20260401T014009Z
LAST-MODIFIED:20260401T014009Z
UID:10000008-1777316400-1777320000@www.climaterevolutionnj.org
SUMMARY:Bi-Weekly Transit Meeting
DESCRIPTION:Google Meet joining info\nVideo call link: https://meet.google.com/vew-wcge-ovt\nOr dial: +1 484-546-8165 PIN: 785795075\nMore phone numbers: https://tel.meet/vew-wcge-ovt?pin=6486147531492
URL:https://www.climaterevolutionnj.org/event/bi-weekly-transit-meeting/2026-04-27/
LOCATION:
END:VEVENT
BEGIN:VEVENT
DTSTART;TZID=America/New_York:20260429T190000
DTEND;TZID=America/New_York:20260429T201500
DTSTAMP:20260423T075526
CREATED:20260401T012721Z
LAST-MODIFIED:20260401T014440Z
UID:10000271-1777489200-1777493700@www.climaterevolutionnj.org
SUMMARY:Energy Policy Working Group
DESCRIPTION:Google Meet joining info\nVideo call link: https://meet.google.com/hgg-kwpq-gqi\nOr dial: +1 570-554-0084 PIN: 281689552\nMore phone numbers: https://tel.meet/hgg-kwpq-gqi?pin=1083861018175
URL:https://www.climaterevolutionnj.org/event/energy-policy-working-group/2026-04-29/
LOCATION:https://meet.google.com/hgg-kwpq-gqi
END:VEVENT
BEGIN:VEVENT
DTSTART;TZID=America/New_York:20260430T180000
DTEND;TZID=America/New_York:20260430T191500
DTSTAMP:20260423T075526
CREATED:20260401T014143Z
LAST-MODIFIED:20260401T014242Z
UID:10000139-1777572000-1777576500@www.climaterevolutionnj.org
SUMMARY:Ecology Meeting
DESCRIPTION:Google Meet joining info\nVideo call link: https://meet.google.com/nuk-gsqt-cfb\nOr dial: +1 402-442-0249 PIN: 218007038\nMore phone numbers: https://tel.meet/nuk-gsqt-cfb?pin=7845043348852
URL:https://www.climaterevolutionnj.org/event/ecology-meeting/2026-04-30/
LOCATION:
END:VEVENT
BEGIN:VEVENT
DTSTART;TZID=America/New_York:20260503T170000
DTEND;TZID=America/New_York:20260503T200000
DTSTAMP:20260423T075526
CREATED:20260331T212948Z
LAST-MODIFIED:20260403T040122Z
UID:10000005-1777827600-1777838400@www.climaterevolutionnj.org
SUMMARY:Watchung Forest Benefit
DESCRIPTION:Come and celebrate the glorious land of New Jersey and the beauty of our earth in an afternoon of artistic conversation. Local artists and performers of all kinds will highlight issues of the environment\, class disparity\, and the current threat of corporate interests which impede upon our rights\, our lives\, and the planet that makes this all possible. All funds will be donated to We Care Open Space Preservation\, an organization fighting a development that is attempting to destroy the Second Watchung Ridge the last largest remaining forest in the region\, located in West Orange. \nEnjoy performances from… \nBeth Ann Mastromarino  \nJohn and Faith Hartlage \nMia Grizzuti \nJaidan Becker \nSchool of Rock Montclair \nJosiah Kemp \nQuestions? Email mia.grizzuti@gmail.com.
URL:https://www.climaterevolutionnj.org/event/watchung-forest-benefit/
LOCATION:Lile Hall at Christ Church\, 561 Springfield Avenue\, Summit\, NJ\, 07901\, United States
ATTACH;FMTTYPE=image/jpeg:https://www.climaterevolutionnj.org/wp-content/uploads/2026/03/SAVE-WATCHUNG-scaled.jpg
END:VEVENT
BEGIN:VEVENT
DTSTART;TZID=America/New_York:20260506T190000
DTEND;TZID=America/New_York:20260506T201500
DTSTAMP:20260423T075526
CREATED:20260401T012721Z
LAST-MODIFIED:20260401T014440Z
UID:10000272-1778094000-1778098500@www.climaterevolutionnj.org
SUMMARY:Energy Policy Working Group
DESCRIPTION:Google Meet joining info\nVideo call link: https://meet.google.com/hgg-kwpq-gqi\nOr dial: +1 570-554-0084 PIN: 281689552\nMore phone numbers: https://tel.meet/hgg-kwpq-gqi?pin=1083861018175
URL:https://www.climaterevolutionnj.org/event/energy-policy-working-group/2026-05-06/
LOCATION:https://meet.google.com/hgg-kwpq-gqi
END:VEVENT
BEGIN:VEVENT
DTSTART;TZID=America/New_York:20260509T110000
DTEND;TZID=America/New_York:20260509T170000
DTSTAMP:20260423T075526
CREATED:20260422T153531Z
LAST-MODIFIED:20260422T153732Z
UID:10000531-1778324400-1778346000@www.climaterevolutionnj.org
SUMMARY:Meadowlands Hike
DESCRIPTION:Join us for a guided ecology hike through the wetlands and open spaces managed by the NJSEA. We’ll explore the unique ecosystems of the Meadowlands region while learning about the diverse plants and wildlife that call this urban-edge landscape home. The hike will also feature a discussion on how major developments in the area\, including the upcoming FIFA World Cup at MetLife Stadium and the American Dream Mall\, are shaping the surrounding environment. We’ll dig into what large-scale infrastructure and event planning means for local ecosystems\, transit access\, and the communities that depend on both. Whether you’re a seasoned hiker\, a transit advocate\, or just curious about what’s happening in your backyard\, you’re invited!
URL:https://www.climaterevolutionnj.org/event/meadowlands-hike/
END:VEVENT
BEGIN:VEVENT
DTSTART;TZID=America/New_York:20260511T190000
DTEND;TZID=America/New_York:20260511T200000
DTSTAMP:20260423T075526
CREATED:20260401T014009Z
LAST-MODIFIED:20260401T014009Z
UID:10000009-1778526000-1778529600@www.climaterevolutionnj.org
SUMMARY:Bi-Weekly Transit Meeting
DESCRIPTION:Google Meet joining info\nVideo call link: https://meet.google.com/vew-wcge-ovt\nOr dial: +1 484-546-8165 PIN: 785795075\nMore phone numbers: https://tel.meet/vew-wcge-ovt?pin=6486147531492
URL:https://www.climaterevolutionnj.org/event/bi-weekly-transit-meeting/2026-05-11/
LOCATION:
END:VEVENT
BEGIN:VEVENT
DTSTART;TZID=America/New_York:20260513T190000
DTEND;TZID=America/New_York:20260513T201500
DTSTAMP:20260423T075526
CREATED:20260401T012721Z
LAST-MODIFIED:20260401T014440Z
UID:10000273-1778698800-1778703300@www.climaterevolutionnj.org
SUMMARY:Energy Policy Working Group
DESCRIPTION:Google Meet joining info\nVideo call link: https://meet.google.com/hgg-kwpq-gqi\nOr dial: +1 570-554-0084 PIN: 281689552\nMore phone numbers: https://tel.meet/hgg-kwpq-gqi?pin=1083861018175
URL:https://www.climaterevolutionnj.org/event/energy-policy-working-group/2026-05-13/
LOCATION:https://meet.google.com/hgg-kwpq-gqi
END:VEVENT
BEGIN:VEVENT
DTSTART;TZID=America/New_York:20260514T180000
DTEND;TZID=America/New_York:20260514T191500
DTSTAMP:20260423T075526
CREATED:20260401T014143Z
LAST-MODIFIED:20260401T014242Z
UID:10000140-1778781600-1778786100@www.climaterevolutionnj.org
SUMMARY:Ecology Meeting
DESCRIPTION:Google Meet joining info\nVideo call link: https://meet.google.com/nuk-gsqt-cfb\nOr dial: +1 402-442-0249 PIN: 218007038\nMore phone numbers: https://tel.meet/nuk-gsqt-cfb?pin=7845043348852
URL:https://www.climaterevolutionnj.org/event/ecology-meeting/2026-05-14/
LOCATION:
END:VEVENT
BEGIN:VEVENT
DTSTART;TZID=America/New_York:20260520T190000
DTEND;TZID=America/New_York:20260520T201500
DTSTAMP:20260423T075526
CREATED:20260401T012721Z
LAST-MODIFIED:20260401T014440Z
UID:10000274-1779303600-1779308100@www.climaterevolutionnj.org
SUMMARY:Energy Policy Working Group
DESCRIPTION:Google Meet joining info\nVideo call link: https://meet.google.com/hgg-kwpq-gqi\nOr dial: +1 570-554-0084 PIN: 281689552\nMore phone numbers: https://tel.meet/hgg-kwpq-gqi?pin=1083861018175
URL:https://www.climaterevolutionnj.org/event/energy-policy-working-group/2026-05-20/
LOCATION:https://meet.google.com/hgg-kwpq-gqi
END:VEVENT
BEGIN:VEVENT
DTSTART;TZID=America/New_York:20260525T190000
DTEND;TZID=America/New_York:20260525T200000
DTSTAMP:20260423T075526
CREATED:20260401T014009Z
LAST-MODIFIED:20260401T014009Z
UID:10000010-1779735600-1779739200@www.climaterevolutionnj.org
SUMMARY:Bi-Weekly Transit Meeting
DESCRIPTION:Google Meet joining info\nVideo call link: https://meet.google.com/vew-wcge-ovt\nOr dial: +1 484-546-8165 PIN: 785795075\nMore phone numbers: https://tel.meet/vew-wcge-ovt?pin=6486147531492
URL:https://www.climaterevolutionnj.org/event/bi-weekly-transit-meeting/2026-05-25/
LOCATION:
END:VEVENT
BEGIN:VEVENT
DTSTART;TZID=America/New_York:20260527T190000
DTEND;TZID=America/New_York:20260527T201500
DTSTAMP:20260423T075526
CREATED:20260401T012721Z
LAST-MODIFIED:20260401T014440Z
UID:10000275-1779908400-1779912900@www.climaterevolutionnj.org
SUMMARY:Energy Policy Working Group
DESCRIPTION:Google Meet joining info\nVideo call link: https://meet.google.com/hgg-kwpq-gqi\nOr dial: +1 570-554-0084 PIN: 281689552\nMore phone numbers: https://tel.meet/hgg-kwpq-gqi?pin=1083861018175
URL:https://www.climaterevolutionnj.org/event/energy-policy-working-group/2026-05-27/
LOCATION:https://meet.google.com/hgg-kwpq-gqi
END:VEVENT
BEGIN:VEVENT
DTSTART;TZID=America/New_York:20260528T180000
DTEND;TZID=America/New_York:20260528T191500
DTSTAMP:20260423T075526
CREATED:20260401T014143Z
LAST-MODIFIED:20260401T014242Z
UID:10000141-1779991200-1779995700@www.climaterevolutionnj.org
SUMMARY:Ecology Meeting
DESCRIPTION:Google Meet joining info\nVideo call link: https://meet.google.com/nuk-gsqt-cfb\nOr dial: +1 402-442-0249 PIN: 218007038\nMore phone numbers: https://tel.meet/nuk-gsqt-cfb?pin=7845043348852
URL:https://www.climaterevolutionnj.org/event/ecology-meeting/2026-05-28/
LOCATION:
END:VEVENT
BEGIN:VEVENT
DTSTART;TZID=America/New_York:20260603T190000
DTEND;TZID=America/New_York:20260603T201500
DTSTAMP:20260423T075526
CREATED:20260401T012721Z
LAST-MODIFIED:20260401T014440Z
UID:10000276-1780513200-1780517700@www.climaterevolutionnj.org
SUMMARY:Energy Policy Working Group
DESCRIPTION:Google Meet joining info\nVideo call link: https://meet.google.com/hgg-kwpq-gqi\nOr dial: +1 570-554-0084 PIN: 281689552\nMore phone numbers: https://tel.meet/hgg-kwpq-gqi?pin=1083861018175
URL:https://www.climaterevolutionnj.org/event/energy-policy-working-group/2026-06-03/
LOCATION:https://meet.google.com/hgg-kwpq-gqi
END:VEVENT
BEGIN:VEVENT
DTSTART;TZID=America/New_York:20260608T190000
DTEND;TZID=America/New_York:20260608T200000
DTSTAMP:20260423T075526
CREATED:20260401T014009Z
LAST-MODIFIED:20260401T014009Z
UID:10000011-1780945200-1780948800@www.climaterevolutionnj.org
SUMMARY:Bi-Weekly Transit Meeting
DESCRIPTION:Google Meet joining info\nVideo call link: https://meet.google.com/vew-wcge-ovt\nOr dial: +1 484-546-8165 PIN: 785795075\nMore phone numbers: https://tel.meet/vew-wcge-ovt?pin=6486147531492
URL:https://www.climaterevolutionnj.org/event/bi-weekly-transit-meeting/2026-06-08/
LOCATION:
END:VEVENT
BEGIN:VEVENT
DTSTART;TZID=America/New_York:20260610T190000
DTEND;TZID=America/New_York:20260610T201500
DTSTAMP:20260423T075526
CREATED:20260401T012721Z
LAST-MODIFIED:20260401T014440Z
UID:10000277-1781118000-1781122500@www.climaterevolutionnj.org
SUMMARY:Energy Policy Working Group
DESCRIPTION:Google Meet joining info\nVideo call link: https://meet.google.com/hgg-kwpq-gqi\nOr dial: +1 570-554-0084 PIN: 281689552\nMore phone numbers: https://tel.meet/hgg-kwpq-gqi?pin=1083861018175
URL:https://www.climaterevolutionnj.org/event/energy-policy-working-group/2026-06-10/
LOCATION:https://meet.google.com/hgg-kwpq-gqi
END:VEVENT
BEGIN:VEVENT
DTSTART;TZID=America/New_York:20260611T180000
DTEND;TZID=America/New_York:20260611T191500
DTSTAMP:20260423T075526
CREATED:20260401T014143Z
LAST-MODIFIED:20260401T014242Z
UID:10000142-1781200800-1781205300@www.climaterevolutionnj.org
SUMMARY:Ecology Meeting
DESCRIPTION:Google Meet joining info\nVideo call link: https://meet.google.com/nuk-gsqt-cfb\nOr dial: +1 402-442-0249 PIN: 218007038\nMore phone numbers: https://tel.meet/nuk-gsqt-cfb?pin=7845043348852
URL:https://www.climaterevolutionnj.org/event/ecology-meeting/2026-06-11/
LOCATION:
END:VEVENT
BEGIN:VEVENT
DTSTART;TZID=America/New_York:20260617T190000
DTEND;TZID=America/New_York:20260617T201500
DTSTAMP:20260423T075526
CREATED:20260401T012721Z
LAST-MODIFIED:20260401T014440Z
UID:10000278-1781722800-1781727300@www.climaterevolutionnj.org
SUMMARY:Energy Policy Working Group
DESCRIPTION:Google Meet joining info\nVideo call link: https://meet.google.com/hgg-kwpq-gqi\nOr dial: +1 570-554-0084 PIN: 281689552\nMore phone numbers: https://tel.meet/hgg-kwpq-gqi?pin=1083861018175
URL:https://www.climaterevolutionnj.org/event/energy-policy-working-group/2026-06-17/
LOCATION:https://meet.google.com/hgg-kwpq-gqi
END:VEVENT
BEGIN:VEVENT
DTSTART;TZID=America/New_York:20260622T190000
DTEND;TZID=America/New_York:20260622T200000
DTSTAMP:20260423T075526
CREATED:20260401T014009Z
LAST-MODIFIED:20260401T014009Z
UID:10000012-1782154800-1782158400@www.climaterevolutionnj.org
SUMMARY:Bi-Weekly Transit Meeting
DESCRIPTION:Google Meet joining info\nVideo call link: https://meet.google.com/vew-wcge-ovt\nOr dial: +1 484-546-8165 PIN: 785795075\nMore phone numbers: https://tel.meet/vew-wcge-ovt?pin=6486147531492
URL:https://www.climaterevolutionnj.org/event/bi-weekly-transit-meeting/2026-06-22/
LOCATION:
END:VEVENT
BEGIN:VEVENT
DTSTART;TZID=America/New_York:20260624T190000
DTEND;TZID=America/New_York:20260624T201500
DTSTAMP:20260423T075526
CREATED:20260401T012721Z
LAST-MODIFIED:20260401T014440Z
UID:10000279-1782327600-1782332100@www.climaterevolutionnj.org
SUMMARY:Energy Policy Working Group
DESCRIPTION:Google Meet joining info\nVideo call link: https://meet.google.com/hgg-kwpq-gqi\nOr dial: +1 570-554-0084 PIN: 281689552\nMore phone numbers: https://tel.meet/hgg-kwpq-gqi?pin=1083861018175
URL:https://www.climaterevolutionnj.org/event/energy-policy-working-group/2026-06-24/
LOCATION:https://meet.google.com/hgg-kwpq-gqi
END:VEVENT
BEGIN:VEVENT
DTSTART;TZID=America/New_York:20260625T180000
DTEND;TZID=America/New_York:20260625T191500
DTSTAMP:20260423T075526
CREATED:20260401T014143Z
LAST-MODIFIED:20260401T014242Z
UID:10000143-1782410400-1782414900@www.climaterevolutionnj.org
SUMMARY:Ecology Meeting
DESCRIPTION:Google Meet joining info\nVideo call link: https://meet.google.com/nuk-gsqt-cfb\nOr dial: +1 402-442-0249 PIN: 218007038\nMore phone numbers: https://tel.meet/nuk-gsqt-cfb?pin=7845043348852
URL:https://www.climaterevolutionnj.org/event/ecology-meeting/2026-06-25/
LOCATION:
END:VEVENT
BEGIN:VEVENT
DTSTART;TZID=America/New_York:20260701T190000
DTEND;TZID=America/New_York:20260701T201500
DTSTAMP:20260423T075526
CREATED:20260401T012721Z
LAST-MODIFIED:20260401T014440Z
UID:10000280-1782932400-1782936900@www.climaterevolutionnj.org
SUMMARY:Energy Policy Working Group
DESCRIPTION:Google Meet joining info\nVideo call link: https://meet.google.com/hgg-kwpq-gqi\nOr dial: +1 570-554-0084 PIN: 281689552\nMore phone numbers: https://tel.meet/hgg-kwpq-gqi?pin=1083861018175
URL:https://www.climaterevolutionnj.org/event/energy-policy-working-group/2026-07-01/
LOCATION:https://meet.google.com/hgg-kwpq-gqi
END:VEVENT
BEGIN:VEVENT
DTSTART;TZID=America/New_York:20260706T190000
DTEND;TZID=America/New_York:20260706T200000
DTSTAMP:20260423T075526
CREATED:20260401T014009Z
LAST-MODIFIED:20260401T014009Z
UID:10000013-1783364400-1783368000@www.climaterevolutionnj.org
SUMMARY:Bi-Weekly Transit Meeting
DESCRIPTION:Google Meet joining info\nVideo call link: https://meet.google.com/vew-wcge-ovt\nOr dial: +1 484-546-8165 PIN: 785795075\nMore phone numbers: https://tel.meet/vew-wcge-ovt?pin=6486147531492
URL:https://www.climaterevolutionnj.org/event/bi-weekly-transit-meeting/2026-07-06/
LOCATION:
END:VEVENT
BEGIN:VEVENT
DTSTART;TZID=America/New_York:20260708T190000
DTEND;TZID=America/New_York:20260708T201500
DTSTAMP:20260423T075526
CREATED:20260401T012721Z
LAST-MODIFIED:20260401T014440Z
UID:10000281-1783537200-1783541700@www.climaterevolutionnj.org
SUMMARY:Energy Policy Working Group
DESCRIPTION:Google Meet joining info\nVideo call link: https://meet.google.com/hgg-kwpq-gqi\nOr dial: +1 570-554-0084 PIN: 281689552\nMore phone numbers: https://tel.meet/hgg-kwpq-gqi?pin=1083861018175
URL:https://www.climaterevolutionnj.org/event/energy-policy-working-group/2026-07-08/
LOCATION:https://meet.google.com/hgg-kwpq-gqi
END:VEVENT
BEGIN:VEVENT
DTSTART;TZID=America/New_York:20260709T180000
DTEND;TZID=America/New_York:20260709T191500
DTSTAMP:20260423T075526
CREATED:20260401T014143Z
LAST-MODIFIED:20260401T014242Z
UID:10000144-1783620000-1783624500@www.climaterevolutionnj.org
SUMMARY:Ecology Meeting
DESCRIPTION:Google Meet joining info\nVideo call link: https://meet.google.com/nuk-gsqt-cfb\nOr dial: +1 402-442-0249 PIN: 218007038\nMore phone numbers: https://tel.meet/nuk-gsqt-cfb?pin=7845043348852
URL:https://www.climaterevolutionnj.org/event/ecology-meeting/2026-07-09/
LOCATION:
END:VEVENT
BEGIN:VEVENT
DTSTART;TZID=America/New_York:20260715T190000
DTEND;TZID=America/New_York:20260715T201500
DTSTAMP:20260423T075526
CREATED:20260401T012721Z
LAST-MODIFIED:20260401T014440Z
UID:10000282-1784142000-1784146500@www.climaterevolutionnj.org
SUMMARY:Energy Policy Working Group
DESCRIPTION:Google Meet joining info\nVideo call link: https://meet.google.com/hgg-kwpq-gqi\nOr dial: +1 570-554-0084 PIN: 281689552\nMore phone numbers: https://tel.meet/hgg-kwpq-gqi?pin=1083861018175
URL:https://www.climaterevolutionnj.org/event/energy-policy-working-group/2026-07-15/
LOCATION:https://meet.google.com/hgg-kwpq-gqi
END:VEVENT
BEGIN:VEVENT
DTSTART;TZID=America/New_York:20260720T190000
DTEND;TZID=America/New_York:20260720T200000
DTSTAMP:20260423T075526
CREATED:20260401T014009Z
LAST-MODIFIED:20260401T014009Z
UID:10000014-1784574000-1784577600@www.climaterevolutionnj.org
SUMMARY:Bi-Weekly Transit Meeting
DESCRIPTION:Google Meet joining info\nVideo call link: https://meet.google.com/vew-wcge-ovt\nOr dial: +1 484-546-8165 PIN: 785795075\nMore phone numbers: https://tel.meet/vew-wcge-ovt?pin=6486147531492
URL:https://www.climaterevolutionnj.org/event/bi-weekly-transit-meeting/2026-07-20/
LOCATION:
END:VEVENT
BEGIN:VEVENT
DTSTART;TZID=America/New_York:20260722T190000
DTEND;TZID=America/New_York:20260722T201500
DTSTAMP:20260423T075526
CREATED:20260401T012721Z
LAST-MODIFIED:20260401T014440Z
UID:10000283-1784746800-1784751300@www.climaterevolutionnj.org
SUMMARY:Energy Policy Working Group
DESCRIPTION:Google Meet joining info\nVideo call link: https://meet.google.com/hgg-kwpq-gqi\nOr dial: +1 570-554-0084 PIN: 281689552\nMore phone numbers: https://tel.meet/hgg-kwpq-gqi?pin=1083861018175
URL:https://www.climaterevolutionnj.org/event/energy-policy-working-group/2026-07-22/
LOCATION:https://meet.google.com/hgg-kwpq-gqi
END:VEVENT
BEGIN:VEVENT
DTSTART;TZID=America/New_York:20260723T180000
DTEND;TZID=America/New_York:20260723T191500
DTSTAMP:20260423T075526
CREATED:20260401T014143Z
LAST-MODIFIED:20260401T014242Z
UID:10000145-1784829600-1784834100@www.climaterevolutionnj.org
SUMMARY:Ecology Meeting
DESCRIPTION:Google Meet joining info\nVideo call link: https://meet.google.com/nuk-gsqt-cfb\nOr dial: +1 402-442-0249 PIN: 218007038\nMore phone numbers: https://tel.meet/nuk-gsqt-cfb?pin=7845043348852
URL:https://www.climaterevolutionnj.org/event/ecology-meeting/2026-07-23/
LOCATION:
END:VEVENT
END:VCALENDAR